BEGIN:VCALENDAR
VERSION:2.0
PRODID:-//Tukios.com/
BEGIN:VEVENT
UID:fd8be772-7d24-42f2-aef5-a88ec5a1652c@www.alexanderfunerals.com
DTSTAMP:20260420T091022Z
DTSTART:20260418T160000Z
DTEND:20260418T170000Z
SUMMARY:Celebration of Life
DESCRIPTION:
URL:https://www.alexanderfunerals.com/obituaries/dorothy-cureton
LOCATION: 1424 Statesville Ave  Charlotte NC 28206
GEO:35.2428888;-80.8361848
END:VEVENT
END:VCALENDAR