BEGIN:VCALENDAR
VERSION:2.0
PRODID:-//Tukios.com/
BEGIN:VEVENT
UID:40830bb2-e764-4976-9819-305cd6f45d20@www.alexanderfunerals.com
DTSTAMP:20260423T181422Z
DTSTART:20260427T150000Z
DTEND:20260427T160000Z
SUMMARY:Visitation
DESCRIPTION:
URL:https://www.alexanderfunerals.com/obituaries/ellen-smith
LOCATION: 2901 Oneida Road  Charlotte NC 28269
GEO:35.2834438;-80.8114259
END:VEVENT
END:VCALENDAR