BEGIN:VCALENDAR
VERSION:2.0
PRODID:-//Tukios.com/
BEGIN:VEVENT
UID:4d4f4f98-709a-4b0c-9b27-ba11723a6b3a@www.alexanderfunerals.com
DTSTAMP:20260423T181351Z
DTSTART:20260427T160000Z
DTEND:20260427T170000Z
SUMMARY:Celebration of Life
DESCRIPTION:
URL:https://www.alexanderfunerals.com/obituaries/ellen-smith
LOCATION: 2901 Oneida Road  Charlotte NC 28269
GEO:35.2834438;-80.8114259
END:VEVENT
END:VCALENDAR