BEGIN:VCALENDAR
VERSION:2.0
PRODID:-//Tukios.com/
BEGIN:VEVENT
UID:321c3563-73e5-4396-a1fe-297370c97fca@www.alexanderfunerals.com
DTSTAMP:20260423T181752Z
DTSTART:20260427
SUMMARY:Interment
DESCRIPTION:
URL:https://www.alexanderfunerals.com/obituaries/ellen-smith
LOCATION: 11201 Beatties Ford Road  Huntersville NC 28078
GEO:35.3719004;-80.9070013
END:VEVENT
END:VCALENDAR