BEGIN:VCALENDAR
VERSION:2.0
PRODID:-//Tukios.com/
BEGIN:VEVENT
UID:e4eac96f-eda9-4b91-873a-0ac0b0ff95ba@www.alexanderfunerals.com
DTSTAMP:20260420T211729Z
DTSTART:20260424T160000Z
DTEND:20260424T170000Z
SUMMARY:Visitation
DESCRIPTION:
URL:https://www.alexanderfunerals.com/obituaries/jimmy-davidson
LOCATION: 232 Skyland Avenue  Charlotte NC 28205
GEO:35.1990751;-80.8065056
END:VEVENT
END:VCALENDAR