BEGIN:VCALENDAR
VERSION:2.0
PRODID:-//Tukios.com/
BEGIN:VEVENT
UID:ab2f6d70-04ed-4902-8250-6b649febe1c7@www.alexanderfunerals.com
DTSTAMP:20260420T211324Z
DTSTART:20260424T170000Z
DTEND:20260424T180000Z
SUMMARY:Celebration of Life
DESCRIPTION:
URL:https://www.alexanderfunerals.com/obituaries/jimmy-davidson
LOCATION: 232 Skyland Avenue  Charlotte NC 28205
GEO:35.1990751;-80.8065056
END:VEVENT
END:VCALENDAR