BEGIN:VCALENDAR
VERSION:2.0
PRODID:-//Tukios.com/
BEGIN:VEVENT
UID:ff58ea7e-2c60-466d-8e88-7769ffd6c389@www.alexanderfunerals.com
DTSTAMP:20260421T194408Z
DTSTART:20260425T150000Z
DTEND:20260425T160000Z
SUMMARY:Visitation
DESCRIPTION:
URL:https://www.alexanderfunerals.com/obituaries/lorraine-gilliard
LOCATION: 1424 Statesville Ave  Charlotte NC 28206
GEO:35.2428888;-80.8361848
END:VEVENT
END:VCALENDAR