BEGIN:VCALENDAR
VERSION:2.0
PRODID:-//Tukios.com/
BEGIN:VEVENT
UID:e28d0b17-8f41-4609-91e6-517274bc0091@www.alexanderfunerals.com
DTSTAMP:20260421T194409Z
DTSTART:20260425T160000Z
DTEND:20260425T170000Z
SUMMARY:Celebration of Life
DESCRIPTION:
URL:https://www.alexanderfunerals.com/obituaries/lorraine-gilliard
LOCATION: 1424 Statesville Ave  Charlotte NC 28206
GEO:35.2428888;-80.8361848
END:VEVENT
END:VCALENDAR