BEGIN:VCALENDAR
VERSION:2.0
PRODID:-//Tukios.com/
BEGIN:VEVENT
UID:cd87a782-a3b6-45e7-aa8d-4809e6431eb4@www.alexanderfunerals.com
DTSTAMP:20260420T231152Z
DTSTART:20260423T150000Z
DTEND:20260423T160000Z
SUMMARY:Visitation
DESCRIPTION:
URL:https://www.alexanderfunerals.com/obituaries/willie-ferguson
LOCATION: 3301 Beatties Ford Road  Charlotte NC 28216
GEO:35.278981;-80.8568027
END:VEVENT
END:VCALENDAR