BEGIN:VCALENDAR
VERSION:2.0
PRODID:-//Tukios.com/
BEGIN:VEVENT
UID:dc6cc0ca-f9ef-4051-a1d1-ec18ff48d082@www.alexanderfunerals.com
DTSTAMP:20260420T231540Z
DTSTART:20260423T160000Z
DTEND:20260423T170000Z
SUMMARY:Celebration of Life
DESCRIPTION:
URL:https://www.alexanderfunerals.com/obituaries/willie-ferguson
LOCATION: 3301 Beatties Ford Road  Charlotte NC 28216
GEO:35.278981;-80.8568027
END:VEVENT
END:VCALENDAR