BEGIN:VCALENDAR
VERSION:2.0
PRODID:-//Tukios.com/
BEGIN:VEVENT
UID:44874c79-5770-4fe3-accc-75966eb2d53f@www.alexanderfunerals.com
DTSTAMP:20260420T231442Z
DTSTART:20260423
SUMMARY:Interment
DESCRIPTION:
URL:https://www.alexanderfunerals.com/obituaries/willie-ferguson
LOCATION: 1504 W Sugar Creek Rd  Charlotte NC 28262
GEO:35.2835568;-80.7934415
END:VEVENT
END:VCALENDAR